BEGIN:VCALENDAR
METHOD:REQUEST
PRODID:-//github.com/rianjs/ical.net//NONSGML ical.net 4.0//EN
VERSION:2.0
BEGIN:VEVENT
CLASS:PUBLIC
CREATED:20260419T053931
DESCRIPTION:<p>Stand&nbsp\;#5/M70</p>
DTEND;TZID=GMT Standard Time;VALUE=DATE:20260430
DTSTAMP:20260419T123931Z
DTSTART;TZID=GMT Standard Time;VALUE=DATE:20260428
LOCATION:<p><strong>NEC Birmingham</strong></p>\n<p>Birmingham\, United Ki
 ngdom</p>
ORGANIZER;CN=AtlasIED Marketing Team:mailto:marketing@atlasied.com
PRIORITY:5
SEQUENCE:0
SUMMARY:The Security Event
TRANSP:TRANSPARENT
UID:91310f9d-10ba-4e47-95c4-f786e33a6061
BEGIN:VALARM
ACTION:DISPLAY
SUMMARY:One day until The Security Event
TRIGGER:-P1D
END:VALARM
END:VEVENT
END:VCALENDAR
