BEGIN:VCALENDAR
METHOD:REQUEST
PRODID:-//github.com/rianjs/ical.net//NONSGML ical.net 4.0//EN
VERSION:2.0
BEGIN:VEVENT
CLASS:PUBLIC
CREATED:20260419T053931
DESCRIPTION:<p>Booth #830</p>
DTEND;TZID=Pacific Standard Time;VALUE=DATE:20261118
DTSTAMP:20260419T123931Z
DTSTART;TZID=Pacific Standard Time;VALUE=DATE:20261117
LOCATION:<p><strong>Anaheim Convention Center</strong></p>\n<p>800 W. Kate
 lla Ave.</p>\n<p>Anaheim\, CA 92802</p>
ORGANIZER;CN=AtlasIED Marketing Team:mailto:marketing@atlasied.com
PRIORITY:5
SEQUENCE:0
SUMMARY:CITE
TRANSP:TRANSPARENT
UID:6a9757c9-45c1-4c87-abe0-b0f7b1376201
BEGIN:VALARM
ACTION:DISPLAY
SUMMARY:One day until CITE
TRIGGER:-P1D
END:VALARM
END:VEVENT
END:VCALENDAR
