BEGIN:VCALENDAR
METHOD:REQUEST
PRODID:-//github.com/rianjs/ical.net//NONSGML ical.net 4.0//EN
VERSION:2.0
BEGIN:VEVENT
CLASS:PUBLIC
CREATED:20260419T053930
DESCRIPTION:<p>Booth #N7132</p>
DTEND;TZID=Pacific Standard Time;VALUE=DATE:20260619
DTSTAMP:20260419T123930Z
DTSTART;TZID=Pacific Standard Time;VALUE=DATE:20260617
LOCATION:<p><strong>Las Vegas Convention Center</strong></p>\n<p>Las Vegas
 \, NV</p>
ORGANIZER;CN=AtlasIED Marketing Team:mailto:marketing@atlasied.com
PRIORITY:5
SEQUENCE:0
SUMMARY:InfoComm 2026
TRANSP:TRANSPARENT
UID:3ecd11c1-97f7-45bb-9299-16a6e3c267a8
BEGIN:VALARM
ACTION:DISPLAY
SUMMARY:One day until InfoComm 2026
TRIGGER:-P1D
END:VALARM
END:VEVENT
END:VCALENDAR
